BEGIN:VCALENDAR
VERSION:2.0
PRODID:-//UHRsprung - ECPv6.15.20//NONSGML v1.0//EN
CALSCALE:GREGORIAN
METHOD:PUBLISH
X-WR-CALNAME:UHRsprung
X-ORIGINAL-URL:https://www.uhrsprung.at
X-WR-CALDESC:Veranstaltungen für UHRsprung
REFRESH-INTERVAL;VALUE=DURATION:PT1H
X-Robots-Tag:noindex
X-PUBLISHED-TTL:PT1H
BEGIN:VTIMEZONE
TZID:Europe/Vienna
BEGIN:DAYLIGHT
TZOFFSETFROM:+0100
TZOFFSETTO:+0200
TZNAME:CEST
DTSTART:20250330T010000
END:DAYLIGHT
BEGIN:STANDARD
TZOFFSETFROM:+0200
TZOFFSETTO:+0100
TZNAME:CET
DTSTART:20251026T010000
END:STANDARD
BEGIN:DAYLIGHT
TZOFFSETFROM:+0100
TZOFFSETTO:+0200
TZNAME:CEST
DTSTART:20260329T010000
END:DAYLIGHT
BEGIN:STANDARD
TZOFFSETFROM:+0200
TZOFFSETTO:+0100
TZNAME:CET
DTSTART:20261025T010000
END:STANDARD
BEGIN:DAYLIGHT
TZOFFSETFROM:+0100
TZOFFSETTO:+0200
TZNAME:CEST
DTSTART:20270328T010000
END:DAYLIGHT
BEGIN:STANDARD
TZOFFSETFROM:+0200
TZOFFSETTO:+0100
TZNAME:CET
DTSTART:20271031T010000
END:STANDARD
END:VTIMEZONE
BEGIN:VEVENT
DTSTART;TZID=Europe/Vienna:20260506T183000
DTEND;TZID=Europe/Vienna:20260506T183000
DTSTAMP:20260419T204340
CREATED:20251105T145558Z
LAST-MODIFIED:20251105T145558Z
UID:1174-1778092200-1778092200@www.uhrsprung.at
SUMMARY:Meidlinger Kulturkreis
DESCRIPTION:
URL:https://www.uhrsprung.at/event/meidlinger-kulturkreis/
LOCATION:Ferdinand Kral-Saal –\, Hufelandgasse 2\, 1120\, Wien\, 1120\, Österreich
END:VEVENT
END:VCALENDAR