BEGIN:VCALENDAR
VERSION:2.0
PRODID:-//UHRsprung - ECPv6.15.20//NONSGML v1.0//EN
CALSCALE:GREGORIAN
METHOD:PUBLISH
X-ORIGINAL-URL:https://www.uhrsprung.at
X-WR-CALDESC:Veranstaltungen für UHRsprung
REFRESH-INTERVAL;VALUE=DURATION:PT1H
X-Robots-Tag:noindex
X-PUBLISHED-TTL:PT1H
BEGIN:VTIMEZONE
TZID:Europe/Vienna
BEGIN:DAYLIGHT
TZOFFSETFROM:+0100
TZOFFSETTO:+0200
TZNAME:CEST
DTSTART:20250330T010000
END:DAYLIGHT
BEGIN:STANDARD
TZOFFSETFROM:+0200
TZOFFSETTO:+0100
TZNAME:CET
DTSTART:20251026T010000
END:STANDARD
BEGIN:DAYLIGHT
TZOFFSETFROM:+0100
TZOFFSETTO:+0200
TZNAME:CEST
DTSTART:20260329T010000
END:DAYLIGHT
BEGIN:STANDARD
TZOFFSETFROM:+0200
TZOFFSETTO:+0100
TZNAME:CET
DTSTART:20261025T010000
END:STANDARD
BEGIN:DAYLIGHT
TZOFFSETFROM:+0100
TZOFFSETTO:+0200
TZNAME:CEST
DTSTART:20270328T010000
END:DAYLIGHT
BEGIN:STANDARD
TZOFFSETFROM:+0200
TZOFFSETTO:+0100
TZNAME:CET
DTSTART:20271031T010000
END:STANDARD
END:VTIMEZONE
BEGIN:VEVENT
DTSTART;TZID=Europe/Vienna:20260411T200000
DTEND;TZID=Europe/Vienna:20260411T200000
DTSTAMP:20260419T160324
CREATED:20251105T144957Z
LAST-MODIFIED:20251105T144957Z
UID:1168-1775937600-1775937600@www.uhrsprung.at
SUMMARY:Pub Schönbrunn
DESCRIPTION:
URL:https://www.uhrsprung.at/event/pub-schoenbrunn-3/
LOCATION:Pub Schönbrunn –\, Diefenbachgasse 50\, Wien\, Wien\, 1150\, Österreich
END:VEVENT
BEGIN:VEVENT
DTSTART;TZID=Europe/Vienna:20260404T180000
DTEND;TZID=Europe/Vienna:20260404T180000
DTSTAMP:20260419T160324
CREATED:20260202T170214Z
LAST-MODIFIED:20260202T170214Z
UID:1186-1775325600-1775325600@www.uhrsprung.at
SUMMARY:Cafe Haller
DESCRIPTION:
URL:https://www.uhrsprung.at/event/cafe-haller/
LOCATION:Cafe Haller –\, Hellwagstraße 2\, 1200\, Wien\, 1200
END:VEVENT
BEGIN:VEVENT
DTSTART;TZID=Europe/Vienna:20260323T180000
DTEND;TZID=Europe/Vienna:20260323T180000
DTSTAMP:20260419T160324
CREATED:20251105T145804Z
LAST-MODIFIED:20251105T145804Z
UID:1178-1774288800-1774288800@www.uhrsprung.at
SUMMARY:Fredis Feuerhalle
DESCRIPTION:
URL:https://www.uhrsprung.at/event/fredis-feuerhalle-3/
LOCATION:Fredis Feuerhalle –\, Margaretenstraße 97\, Wien\, Wien\, 1050\, Österreich
END:VEVENT
BEGIN:VEVENT
DTSTART;TZID=Europe/Vienna:20260314T200000
DTEND;TZID=Europe/Vienna:20260314T200000
DTSTAMP:20260419T160324
CREATED:20251105T144908Z
LAST-MODIFIED:20251105T144908Z
UID:1166-1773518400-1773518400@www.uhrsprung.at
SUMMARY:Pub Schönbrunn
DESCRIPTION:
URL:https://www.uhrsprung.at/event/pub-schoenbrunn-2/
LOCATION:Pub Schönbrunn –\, Diefenbachgasse 50\, Wien\, Wien\, 1150\, Österreich
END:VEVENT
BEGIN:VEVENT
DTSTART;TZID=Europe/Vienna:20260220T190000
DTEND;TZID=Europe/Vienna:20260220T190000
DTSTAMP:20260419T160324
CREATED:20251105T144648Z
LAST-MODIFIED:20260202T165737Z
UID:1162-1771614000-1771614000@www.uhrsprung.at
SUMMARY:Fredis Feuerhalle - KARAOKEparty
DESCRIPTION:
URL:https://www.uhrsprung.at/event/fredis-feuerhalle-2/
LOCATION:Fredis Feuerhalle –\, Margaretenstraße 97\, Wien\, Wien\, 1050\, Österreich
END:VEVENT
BEGIN:VEVENT
DTSTART;TZID=Europe/Vienna:20260217T200000
DTEND;TZID=Europe/Vienna:20260217T200000
DTSTAMP:20260419T160324
CREATED:20251105T144818Z
LAST-MODIFIED:20251105T144818Z
UID:1164-1771358400-1771358400@www.uhrsprung.at
SUMMARY:Faschingsparty im Pub Schönbrunn
DESCRIPTION:
URL:https://www.uhrsprung.at/event/faschingsparty-im-pub-schoenbrunn/
LOCATION:Pub Schönbrunn –\, Diefenbachgasse 50\, Wien\, Wien\, 1150\, Österreich
END:VEVENT
BEGIN:VEVENT
DTSTART;TZID=Europe/Vienna:20260211T183000
DTEND;TZID=Europe/Vienna:20260211T183000
DTSTAMP:20260419T160324
CREATED:20260202T165955Z
LAST-MODIFIED:20260202T165955Z
UID:1184-1770834600-1770834600@www.uhrsprung.at
SUMMARY:Cafeteria Rehaklinik Baumgarten
DESCRIPTION:
URL:https://www.uhrsprung.at/event/cafeteria-rehaklinik-baumgarten/
LOCATION:Rehaklinik Baumgarten –\, Reizenpfenninggasse 1\, Wien\, Wien\, 1140\, Österreich
END:VEVENT
END:VCALENDAR